BEGIN:VCALENDAR
VERSION:2.0
PRODID:-//Teaneck Chamber of Commerce in New Jersey - ECPv6.15.20//NONSGML v1.0//EN
CALSCALE:GREGORIAN
METHOD:PUBLISH
X-WR-CALNAME:Teaneck Chamber of Commerce in New Jersey
X-ORIGINAL-URL:https://www.teaneckchamber.org
X-WR-CALDESC:Events for Teaneck Chamber of Commerce in New Jersey
REFRESH-INTERVAL;VALUE=DURATION:PT1H
X-Robots-Tag:noindex
X-PUBLISHED-TTL:PT1H
BEGIN:VTIMEZONE
TZID:America/New_York
BEGIN:DAYLIGHT
TZOFFSETFROM:-0500
TZOFFSETTO:-0400
TZNAME:EDT
DTSTART:20250309T070000
END:DAYLIGHT
BEGIN:STANDARD
TZOFFSETFROM:-0400
TZOFFSETTO:-0500
TZNAME:EST
DTSTART:20251102T060000
END:STANDARD
BEGIN:DAYLIGHT
TZOFFSETFROM:-0500
TZOFFSETTO:-0400
TZNAME:EDT
DTSTART:20260308T070000
END:DAYLIGHT
BEGIN:STANDARD
TZOFFSETFROM:-0400
TZOFFSETTO:-0500
TZNAME:EST
DTSTART:20261101T060000
END:STANDARD
BEGIN:DAYLIGHT
TZOFFSETFROM:-0500
TZOFFSETTO:-0400
TZNAME:EDT
DTSTART:20270314T070000
END:DAYLIGHT
BEGIN:STANDARD
TZOFFSETFROM:-0400
TZOFFSETTO:-0500
TZNAME:EST
DTSTART:20271107T060000
END:STANDARD
END:VTIMEZONE
BEGIN:VEVENT
DTSTART;TZID=America/New_York:20260428T170000
DTEND;TZID=America/New_York:20260428T190000
DTSTAMP:20260422T045223
CREATED:20260421T183351Z
LAST-MODIFIED:20260421T183556Z
UID:7698-1777395600-1777402800@www.teaneckchamber.org
SUMMARY:April Happy Hour Networking Night
DESCRIPTION:Wind down the workday and power up your network. Join fellow chamber members and local business leaders at The Glen Bar inside the Teaneck Marriott for an evening of great conversation\, new connections\, and complimentary drink. \nMember: Free\nNon-member: $25.00
URL:https://www.teaneckchamber.org/event/april-happy-hour-networking-night/
LOCATION:Teaneck Marriott at Glenpointe\, 100 Frank W Burr Blvd\, Teaneck\, New Jersey\, 07666
ORGANIZER;CN="Teaneck Chamber of Commerce":MAILTO:info@teaneckchamber.org
END:VEVENT
END:VCALENDAR