BEGIN:VCALENDAR
VERSION:2.0
PRODID:-//Teaneck Chamber of Commerce in New Jersey - ECPv6.15.20//NONSGML v1.0//EN
CALSCALE:GREGORIAN
METHOD:PUBLISH
X-WR-CALNAME:Teaneck Chamber of Commerce in New Jersey
X-ORIGINAL-URL:https://www.teaneckchamber.org
X-WR-CALDESC:Events for Teaneck Chamber of Commerce in New Jersey
REFRESH-INTERVAL;VALUE=DURATION:PT1H
X-Robots-Tag:noindex
X-PUBLISHED-TTL:PT1H
BEGIN:VTIMEZONE
TZID:UTC
BEGIN:STANDARD
TZOFFSETFROM:+0000
TZOFFSETTO:+0000
TZNAME:UTC
DTSTART:20180101T000000
END:STANDARD
END:VTIMEZONE
BEGIN:VEVENT
DTSTART;TZID=UTC:20190717T180000
DTEND;TZID=UTC:20190717T210000
DTSTAMP:20260419T101251
CREATED:20200405T160221Z
LAST-MODIFIED:20200405T160847Z
UID:2331-1563386400-1563397200@www.teaneckchamber.org
SUMMARY:Multi-Chamber Alliance July 2019 Event
DESCRIPTION:Come and meet other fellow business owners and create long-lasting relationships with members of the Multi-Chamber Alliance
URL:https://www.teaneckchamber.org/event/multi-chamber-alliance-july-2019-event/
LOCATION:Sedona Taphouse\, One Towne Centre\, 679 Anderson Ave\,\, Cliffside Park\, New Jersey\, 07010
END:VEVENT
END:VCALENDAR